BEGIN:VCALENDAR
VERSION:2.0
PRODID:-//Economic Geology Research Centre - ECPv6.15.18//NONSGML v1.0//EN
CALSCALE:GREGORIAN
METHOD:PUBLISH
X-WR-CALNAME:Economic Geology Research Centre
X-ORIGINAL-URL:https://egru.jcu.edu.au
X-WR-CALDESC:Events for Economic Geology Research Centre
REFRESH-INTERVAL;VALUE=DURATION:PT1H
X-Robots-Tag:noindex
X-PUBLISHED-TTL:PT1H
BEGIN:VTIMEZONE
TZID:Australia/Brisbane
BEGIN:STANDARD
TZOFFSETFROM:+1000
TZOFFSETTO:+1000
TZNAME:AEST
DTSTART:20240101T000000
END:STANDARD
END:VTIMEZONE
BEGIN:VEVENT
DTSTART;TZID=Australia/Brisbane:20250218T100000
DTEND;TZID=Australia/Brisbane:20250218T143000
DTSTAMP:20260424T121409
CREATED:20240515T040341Z
LAST-MODIFIED:20250204T070402Z
UID:4380-1739872800-1739889000@egru.jcu.edu.au
SUMMARY:QGIS for Mineral Exploration - Introduction to QGIS
DESCRIPTION:Professional Development Short Course \nModule 1\nPrerequisite:  Basic knowledge of GIS \n\nWhat is QGIS?\nQGIS interface and menus\nMenu bars\, tool bars and panels\nSelecting features and the attribute panel\nBasic map making\, use of templates and map legends\, adding WMS\nCreating a map and designing a print layout\nAdd map features\, grid\, scale bar\, legend\, north arrow\nDuplicate layout and add geological map\nImporting and display of field data (points\, lines and polygons)\nAdding field data from csv\nCSV markers\, layer properties\nCreating forms and displaying photos\n\nDetailed course information here. \nDaily Session Times \n08:00 – 12:30 AWST (Perth)\n10:00 – 14:30 AEST (Townsville)\n11:00 – 15:30 AEDT (Sydney)
URL:https://egru.jcu.edu.au/event/qgis-module1/
CATEGORIES:Professional Development
ATTACH;FMTTYPE=image/jpeg:https://egru.jcu.edu.au/wp-content/uploads/2025/02/PRS_Beasley1_193-053-013_RGB_pansharp_trim-scaled.jpg
END:VEVENT
END:VCALENDAR