BEGIN:VCALENDAR
VERSION:2.0
PRODID:-//Economic Geology Research Centre - ECPv6.15.18//NONSGML v1.0//EN
CALSCALE:GREGORIAN
METHOD:PUBLISH
X-WR-CALNAME:Economic Geology Research Centre
X-ORIGINAL-URL:https://egru.jcu.edu.au
X-WR-CALDESC:Events for Economic Geology Research Centre
REFRESH-INTERVAL;VALUE=DURATION:PT1H
X-Robots-Tag:noindex
X-PUBLISHED-TTL:PT1H
BEGIN:VTIMEZONE
TZID:Australia/Brisbane
BEGIN:STANDARD
TZOFFSETFROM:+1000
TZOFFSETTO:+1000
TZNAME:AEST
DTSTART:20240101T000000
END:STANDARD
END:VTIMEZONE
BEGIN:VEVENT
DTSTART;VALUE=DATE:20251008
DTEND;VALUE=DATE:20251010
DTSTAMP:20260419T163240
CREATED:20250522T053842Z
LAST-MODIFIED:20250522T054916Z
UID:6865-1759881600-1760054399@egru.jcu.edu.au
SUMMARY:Exploration Geochemistry - Data Acquisition\, Quality Assessment & Management (Module 1)
DESCRIPTION:Professional Development Short Course \nModule 1\nData Acquisition\, Quality Assessment & Management\nA 1 day online course presented over 2 days \n\nGeochemical sampling strategies\, sample preparation and analytical methods\, quality assurance and quality control (QA/QC)\, and basic data management\nAn A to Z of designing\, implementing and reporting geochemical data in compliance with current public reporting codes\n\nDetailed course information here. \n 
URL:https://egru.jcu.edu.au/event/geochemistry-module1-oct/
CATEGORIES:Professional Development
ATTACH;FMTTYPE=image/jpeg:https://egru.jcu.edu.au/wp-content/uploads/2023/11/Asset-5.jpg
END:VEVENT
END:VCALENDAR