BEGIN:VCALENDAR
VERSION:2.0
PRODID:-//Economic Geology Research Centre - ECPv6.15.18//NONSGML v1.0//EN
CALSCALE:GREGORIAN
METHOD:PUBLISH
X-ORIGINAL-URL:https://egru.jcu.edu.au
X-WR-CALDESC:Events for Economic Geology Research Centre
REFRESH-INTERVAL;VALUE=DURATION:PT1H
X-Robots-Tag:noindex
X-PUBLISHED-TTL:PT1H
BEGIN:VTIMEZONE
TZID:Australia/Brisbane
BEGIN:STANDARD
TZOFFSETFROM:+1000
TZOFFSETTO:+1000
TZNAME:AEST
DTSTART:20240101T000000
END:STANDARD
END:VTIMEZONE
BEGIN:VEVENT
DTSTART;TZID=Australia/Brisbane:20250304T090000
DTEND;TZID=Australia/Brisbane:20250306T170000
DTSTAMP:20260420T140238
CREATED:20231205T002402Z
LAST-MODIFIED:20250204T071056Z
UID:2425-1741078800-1741280400@egru.jcu.edu.au
SUMMARY:Ore Textures & Breccias: Recognition Techniques
DESCRIPTION:Professional Development Short Course \nContent\nThis three-day course covers the fundamentals of textural observation and interpretation in mineralised hydrothermal systems. \nThe techniques used are simple\, highly effective and require no specialised equipment for their implementation. \nThe techniques are also extremely practical in that they generate numerous questions concerning the mineralisation being studied and commonly provide vectors toward mineralisation for drill testing. \nThe course uses an extensive suite of specimens from mineral systems around the world to consider critical evaluation factors\, including: \n\nInfill: Recognition Criteria\nAlteration: Recognition & Evaluation\nChannelways: Recognition Criteria\nOverprinting and Paragenesis: Recognition & Sequencing Criteria\nBreccia: Recognition Criteria\nBreccia: Rudimentary Classification system\nTectonic Breccia Systems\nIntrusive Breccia Systems\nParagenetic Core Logging\n\nDetailed course information here. \nTimes & Location \nFace-to-face over 3 consecutive days \nJCU Townsville\, Bebegu Yumba Campus \n9:00am to 5:00pm daily
URL:https://egru.jcu.edu.au/event/ore-textures-breccias/
CATEGORIES:Professional Development
ATTACH;FMTTYPE=image/png:https://egru.jcu.edu.au/wp-content/uploads/2023/12/Presentation5.png
END:VEVENT
BEGIN:VEVENT
DTSTART;TZID=Australia/Brisbane:20250314T120000
DTEND;TZID=Australia/Brisbane:20250314T170000
DTSTAMP:20260420T140238
CREATED:20250204T065950Z
LAST-MODIFIED:20250204T070026Z
UID:6159-1741953600-1741971600@egru.jcu.edu.au
SUMMARY:EGRU Engagement Day
DESCRIPTION:EGRU staff and students invite our industry\, government and research colleagues to join them for this year’s EGRU Engagement Day on Friday 14th March. \nThe Engagement Day is an opportunity for the EGRU team to provide overviews and updates on research and training initiatives\, and to hear from research and industry colleagues about their research programs. \nInformation on speakers and presentations will be available soon. \nThis is a free event but registration is required. \nFor further information contact:  EGRU_training@jcu.edu.au \n 
URL:https://egru.jcu.edu.au/event/engagement-day-2025/
LOCATION:Rydges Southbank\, Palmer Street\, Townsville\, Queensland\, Australia
CATEGORIES:Professional Development,Workshops
ATTACH;FMTTYPE=image/png:https://egru.jcu.edu.au/wp-content/uploads/2025/02/EDay-2023-linkedin-after-e1738651015646.png
END:VEVENT
BEGIN:VEVENT
DTSTART;TZID=Australia/Brisbane:20250326T000000
DTEND;TZID=Australia/Brisbane:20250327T000000
DTSTAMP:20260420T140238
CREATED:20231205T013234Z
LAST-MODIFIED:20241209T022922Z
UID:2465-1742947200-1743033600@egru.jcu.edu.au
SUMMARY:Exploration Geochemistry - Data Acquisition\, Quality Assessment & Management
DESCRIPTION:Daily session times TBD. \nProfessional Development Short Course \nModule 1\nData Acquisition\, Quality Assessment & Management\nA 1 day course presented over 2 days \n\nGeochemical sampling strategies\, sample preparation and analytical methods\, quality assurance and quality control (QA/QC)\, and basic data management\nAn A to Z of designing\, implementing and reporting geochemical data in compliance with current public reporting codes\n\nDetailed course information here. \n 
URL:https://egru.jcu.edu.au/event/geochemistry-module1/
CATEGORIES:Professional Development
ATTACH;FMTTYPE=image/jpeg:https://egru.jcu.edu.au/wp-content/uploads/2023/11/Asset-5.jpg
END:VEVENT
END:VCALENDAR